Package: geneRxCluster Version: 1.43.0 Command: E:\biocbuild\bbs-3.21-bioc\R\bin\R.exe CMD INSTALL geneRxCluster StartedAt: 2025-02-09 15:36:51 -0500 (Sun, 09 Feb 2025) EndedAt: 2025-02-09 15:37:16 -0500 (Sun, 09 Feb 2025) EllapsedTime: 24.7 seconds RetCode: 0 Status: OK