Package: geneXtendeR Version: 1.33.0 Command: /Library/Frameworks/R.framework/Resources/bin/R CMD check --install=check:geneXtendeR.install-out.txt --library=/Library/Frameworks/R.framework/Resources/library --no-vignettes --timings geneXtendeR_1.33.0.tar.gz StartedAt: 2025-02-09 19:21:23 -0500 (Sun, 09 Feb 2025) EndedAt: 2025-02-09 19:26:11 -0500 (Sun, 09 Feb 2025) EllapsedTime: 288.3 seconds RetCode: 0 Status: WARNINGS CheckDir: geneXtendeR.Rcheck Warnings: 2