Package: geneXtendeR Version: 1.33.0 Command: /Library/Frameworks/R.framework/Resources/bin/R CMD INSTALL geneXtendeR StartedAt: 2025-02-04 15:16:06 -0500 (Tue, 04 Feb 2025) EndedAt: 2025-02-04 15:16:25 -0500 (Tue, 04 Feb 2025) EllapsedTime: 19.3 seconds RetCode: 0 Status: OK