Package: geneXtendeR Version: 1.33.0 Command: /home/biocbuild/R/R/bin/R CMD build --keep-empty-dirs --no-resave-data geneXtendeR StartedAt: 2025-01-28 23:05:52 -0000 (Tue, 28 Jan 2025) EndedAt: 2025-01-28 23:05:57 -0000 (Tue, 28 Jan 2025) EllapsedTime: 5.0 seconds RetCode: 0 Status: OK PackageFile: geneXtendeR_1.33.0.tar.gz PackageFileSize: 11.74 MiB