Package: geneXtendeR Version: 1.33.0 Command: /home/biocbuild/R/R/bin/R CMD check --install=check:geneXtendeR.install-out.txt --library=/home/biocbuild/R/R/site-library --no-vignettes --timings geneXtendeR_1.33.0.tar.gz StartedAt: 2025-01-28 10:53:38 -0000 (Tue, 28 Jan 2025) EndedAt: 2025-01-28 11:20:56 -0000 (Tue, 28 Jan 2025) EllapsedTime: 1638.2 seconds RetCode: 0 Status: WARNINGS CheckDir: geneXtendeR.Rcheck Warnings: 6