Package: geneXtendeR Version: 1.33.0 Command: /home/biocbuild/R/R/bin/R CMD INSTALL geneXtendeR StartedAt: 2025-01-29 20:07:20 -0000 (Wed, 29 Jan 2025) EndedAt: 2025-01-29 20:08:23 -0000 (Wed, 29 Jan 2025) EllapsedTime: 62.6 seconds RetCode: 0 Status: OK