Package: geneXtendeR Version: 1.33.0 Command: /Library/Frameworks/R.framework/Resources/bin/R CMD build --keep-empty-dirs --no-resave-data geneXtendeR StartedAt: 2025-02-04 16:48:08 -0500 (Tue, 04 Feb 2025) EndedAt: 2025-02-04 16:48:13 -0500 (Tue, 04 Feb 2025) EllapsedTime: 4.6 seconds RetCode: 0 Status: OK PackageFile: geneXtendeR_1.33.0.tar.gz PackageFileSize: 11.74 MiB