Package: geneXtendeR Version: 1.33.0 Command: /Library/Frameworks/R.framework/Resources/bin/R CMD INSTALL geneXtendeR StartedAt: 2025-02-04 15:25:19 -0500 (Tue, 04 Feb 2025) EndedAt: 2025-02-04 15:26:22 -0500 (Tue, 04 Feb 2025) EllapsedTime: 63.1 seconds RetCode: 0 Status: OK