Package: geneXtendeR Version: 1.33.0 Command: /home/biocbuild/bbs-3.21-bioc/R/bin/R CMD build --keep-empty-dirs --no-resave-data geneXtendeR StartedAt: 2025-02-04 17:19:48 -0500 (Tue, 04 Feb 2025) EndedAt: 2025-02-04 17:19:52 -0500 (Tue, 04 Feb 2025) EllapsedTime: 4.0 seconds RetCode: 0 Status: OK PackageFile: geneXtendeR_1.33.0.tar.gz PackageFileSize: 11.74 MiB