Package: geneXtendeR Version: 1.33.0 Command: /home/biocbuild/bbs-3.21-bioc/R/bin/R CMD check --install=check:geneXtendeR.install-out.txt --library=/home/biocbuild/bbs-3.21-bioc/R/site-library --timings geneXtendeR_1.33.0.tar.gz StartedAt: 2025-02-04 22:34:19 -0500 (Tue, 04 Feb 2025) EndedAt: 2025-02-04 22:45:03 -0500 (Tue, 04 Feb 2025) EllapsedTime: 643.8 seconds RetCode: 0 Status: WARNINGS CheckDir: geneXtendeR.Rcheck Warnings: 2