Package: geneXtendeR Version: 1.33.0 Command: /home/biocbuild/bbs-3.21-bioc/R/bin/R CMD INSTALL geneXtendeR StartedAt: 2025-02-04 15:42:52 -0500 (Tue, 04 Feb 2025) EndedAt: 2025-02-04 15:43:40 -0500 (Tue, 04 Feb 2025) EllapsedTime: 48.1 seconds RetCode: 0 Status: OK