Package: genefu Version: 2.39.1 Command: /Library/Frameworks/R.framework/Resources/bin/R CMD build --keep-empty-dirs --no-resave-data genefu StartedAt: 2025-02-09 16:23:58 -0500 (Sun, 09 Feb 2025) EndedAt: 2025-02-09 16:24:30 -0500 (Sun, 09 Feb 2025) EllapsedTime: 31.4 seconds RetCode: 0 Status: OK PackageFile: genefu_2.39.1.tar.gz PackageFileSize: 4.892 MiB