Package: genefu Version: 2.39.1 Command: /Library/Frameworks/R.framework/Resources/bin/R CMD check --install=check:genefu.install-out.txt --library=/Library/Frameworks/R.framework/Resources/library --no-vignettes --timings genefu_2.39.1.tar.gz StartedAt: 2025-02-09 19:20:32 -0500 (Sun, 09 Feb 2025) EndedAt: 2025-02-09 19:21:23 -0500 (Sun, 09 Feb 2025) EllapsedTime: 50.7 seconds RetCode: 0 Status: WARNINGS CheckDir: genefu.Rcheck Warnings: 1