Package: genefu Version: 2.39.1 Command: /Library/Frameworks/R.framework/Resources/bin/R CMD INSTALL genefu StartedAt: 2025-02-09 15:29:08 -0500 (Sun, 09 Feb 2025) EndedAt: 2025-02-09 15:29:17 -0500 (Sun, 09 Feb 2025) EllapsedTime: 9.3 seconds RetCode: 0 Status: OK