Package: genefu Version: 2.39.1 Command: /Library/Frameworks/R.framework/Resources/bin/R CMD check --install=check:genefu.install-out.txt --library=/Library/Frameworks/R.framework/Resources/library --no-vignettes --timings genefu_2.39.1.tar.gz StartedAt: 2025-02-09 20:52:28 -0500 (Sun, 09 Feb 2025) EndedAt: 2025-02-09 20:55:09 -0500 (Sun, 09 Feb 2025) EllapsedTime: 161.1 seconds RetCode: 0 Status: WARNINGS CheckDir: genefu.Rcheck Warnings: 1