Package: genefu Version: 2.39.1 Command: chmod a+r genefu -R && E:\biocbuild\bbs-3.21-bioc\R\bin\R.exe CMD build --keep-empty-dirs --no-resave-data genefu StartedAt: 2025-02-09 18:51:20 -0500 (Sun, 09 Feb 2025) EndedAt: 2025-02-09 18:53:13 -0500 (Sun, 09 Feb 2025) EllapsedTime: 112.9 seconds RetCode: 0 Status: OK PackageFile: genefu_2.39.1.tar.gz PackageFileSize: 4.637 MiB