Package: genefu Version: 2.39.1 Command: E:\biocbuild\bbs-3.21-bioc\R\bin\R.exe CMD INSTALL genefu StartedAt: 2025-02-12 17:01:39 -0500 (Wed, 12 Feb 2025) EndedAt: 2025-02-12 17:02:31 -0500 (Wed, 12 Feb 2025) EllapsedTime: 52.3 seconds RetCode: 0 Status: OK