Package: geneplast Version: 1.33.0 Command: /Library/Frameworks/R.framework/Resources/bin/R CMD INSTALL geneplast StartedAt: 2025-02-09 15:12:20 -0500 (Sun, 09 Feb 2025) EndedAt: 2025-02-09 15:12:22 -0500 (Sun, 09 Feb 2025) EllapsedTime: 2.3 seconds RetCode: 0 Status: OK