Package: geneplast Version: 1.33.0 Command: /home/biocbuild/bbs-3.21-bioc/R/bin/R CMD INSTALL geneplast StartedAt: 2025-02-09 15:07:34 -0500 (Sun, 09 Feb 2025) EndedAt: 2025-02-09 15:08:14 -0500 (Sun, 09 Feb 2025) EllapsedTime: 39.7 seconds RetCode: 0 Status: OK