Package: geneplast Version: 1.33.0 Command: chmod a+r geneplast -R && E:\biocbuild\bbs-3.21-bioc\R\bin\R.exe CMD build --keep-empty-dirs --no-resave-data geneplast StartedAt: 2025-02-09 18:51:48 -0500 (Sun, 09 Feb 2025) EndedAt: 2025-02-09 18:52:43 -0500 (Sun, 09 Feb 2025) EllapsedTime: 54.5 seconds RetCode: 0 Status: OK PackageFile: geneplast_1.33.0.tar.gz PackageFileSize: 7.074 MiB