Package: geneplast Version: 1.33.0 Command: E:\biocbuild\bbs-3.21-bioc\R\bin\R.exe CMD check --no-multiarch --install=check:geneplast.install-out.txt --library=E:\biocbuild\bbs-3.21-bioc\R\library --no-vignettes --timings geneplast_1.33.0.tar.gz StartedAt: 2025-02-10 01:22:17 -0500 (Mon, 10 Feb 2025) EndedAt: 2025-02-10 01:23:16 -0500 (Mon, 10 Feb 2025) EllapsedTime: 58.7 seconds RetCode: 0 Status: OK CheckDir: geneplast.Rcheck Warnings: 0