Package: geneplast Version: 1.33.0 Command: E:\biocbuild\bbs-3.21-bioc\R\bin\R.exe CMD INSTALL geneplast StartedAt: 2025-02-09 15:34:10 -0500 (Sun, 09 Feb 2025) EndedAt: 2025-02-09 15:34:31 -0500 (Sun, 09 Feb 2025) EllapsedTime: 21.3 seconds RetCode: 0 Status: OK