Package: geneplotter Version: 1.85.0 Command: /home/biocbuild/R/R/bin/R CMD build --keep-empty-dirs --no-resave-data geneplotter StartedAt: 2025-01-28 23:04:41 -0000 (Tue, 28 Jan 2025) EndedAt: 2025-01-28 23:05:14 -0000 (Tue, 28 Jan 2025) EllapsedTime: 33.0 seconds RetCode: 0 Status: OK PackageFile: geneplotter_1.85.0.tar.gz PackageFileSize: 1.592 MiB