Package: geneplotter Version: 1.85.0 Command: /home/biocbuild/R/R/bin/R CMD INSTALL geneplotter StartedAt: 2025-01-29 19:52:12 -0000 (Wed, 29 Jan 2025) EndedAt: 2025-01-29 19:52:31 -0000 (Wed, 29 Jan 2025) EllapsedTime: 19.5 seconds RetCode: 0 Status: OK