Package: geneplotter Version: 1.85.0 Command: /home/biocbuild/bbs-3.21-bioc/R/bin/R CMD build --keep-empty-dirs --no-resave-data geneplotter StartedAt: 2025-02-12 17:17:41 -0500 (Wed, 12 Feb 2025) EndedAt: 2025-02-12 17:18:05 -0500 (Wed, 12 Feb 2025) EllapsedTime: 24.0 seconds RetCode: 0 Status: OK PackageFile: geneplotter_1.85.0.tar.gz PackageFileSize: 1.636 MiB