Package: geneplotter Version: 1.85.0 Command: E:\biocbuild\bbs-3.21-bioc\R\bin\R.exe CMD INSTALL geneplotter StartedAt: 2025-02-12 15:48:36 -0500 (Wed, 12 Feb 2025) EndedAt: 2025-02-12 15:49:15 -0500 (Wed, 12 Feb 2025) EllapsedTime: 38.7 seconds RetCode: 0 Status: OK