Package: genomeIntervals Version: 1.63.0 Command: /Library/Frameworks/R.framework/Resources/bin/R CMD check --install=check:genomeIntervals.install-out.txt --library=/Library/Frameworks/R.framework/Resources/library --no-vignettes --timings genomeIntervals_1.63.0.tar.gz StartedAt: 2025-02-09 20:54:47 -0500 (Sun, 09 Feb 2025) EndedAt: 2025-02-09 20:56:43 -0500 (Sun, 09 Feb 2025) EllapsedTime: 116.2 seconds RetCode: 0 Status: WARNINGS CheckDir: genomeIntervals.Rcheck Warnings: 1