Package: genomeIntervals Version: 1.63.0 Command: /home/biocbuild/bbs-3.21-bioc/R/bin/R CMD check --install=check:genomeIntervals.install-out.txt --library=/home/biocbuild/bbs-3.21-bioc/R/site-library --timings genomeIntervals_1.63.0.tar.gz StartedAt: 2025-02-12 22:35:46 -0500 (Wed, 12 Feb 2025) EndedAt: 2025-02-12 22:37:19 -0500 (Wed, 12 Feb 2025) EllapsedTime: 93.2 seconds RetCode: 0 Status: WARNINGS CheckDir: genomeIntervals.Rcheck Warnings: 1