Package: genomeIntervals Version: 1.63.0 Command: rm -rf genomeIntervals.buildbin-libdir && mkdir genomeIntervals.buildbin-libdir && E:\biocbuild\bbs-3.21-bioc\R\bin\R.exe CMD INSTALL --build --library=genomeIntervals.buildbin-libdir genomeIntervals_1.63.0.tar.gz StartedAt: 2025-02-10 07:49:03 -0500 (Mon, 10 Feb 2025) EndedAt: 2025-02-10 07:50:00 -0500 (Mon, 10 Feb 2025) EllapsedTime: 57.1 seconds RetCode: 0 Status: OK PackageFile: genomeIntervals_1.63.0.zip PackageFileSize: 569.2 KiB