Package: genomicInstability Version: 1.13.0 Command: /home/biocbuild/R/R/bin/R CMD build --keep-empty-dirs --no-resave-data genomicInstability StartedAt: 2025-01-28 23:07:44 -0000 (Tue, 28 Jan 2025) EndedAt: 2025-01-28 23:09:49 -0000 (Tue, 28 Jan 2025) EllapsedTime: 125.1 seconds RetCode: 0 Status: OK PackageFile: genomicInstability_1.13.0.tar.gz PackageFileSize: 1.204 MiB