Package: genomicInstability Version: 1.13.0 Command: /home/biocbuild/R/R/bin/R CMD INSTALL genomicInstability StartedAt: 2025-01-29 20:16:50 -0000 (Wed, 29 Jan 2025) EndedAt: 2025-01-29 20:17:24 -0000 (Wed, 29 Jan 2025) EllapsedTime: 34.0 seconds RetCode: 0 Status: OK