Package: genomicInstability Version: 1.13.0 Command: /Library/Frameworks/R.framework/Resources/bin/R CMD build --keep-empty-dirs --no-resave-data genomicInstability StartedAt: 2025-02-09 16:52:12 -0500 (Sun, 09 Feb 2025) EndedAt: 2025-02-09 16:54:18 -0500 (Sun, 09 Feb 2025) EllapsedTime: 126.8 seconds RetCode: 0 Status: OK PackageFile: genomicInstability_1.13.0.tar.gz PackageFileSize: 1.211 MiB