Package: genomicInstability Version: 1.13.0 Command: /home/biocbuild/bbs-3.21-bioc/R/bin/R CMD build --keep-empty-dirs --no-resave-data genomicInstability StartedAt: 2025-02-03 17:31:30 -0500 (Mon, 03 Feb 2025) EndedAt: 2025-02-03 17:33:22 -0500 (Mon, 03 Feb 2025) EllapsedTime: 112.1 seconds RetCode: 0 Status: OK PackageFile: genomicInstability_1.13.0.tar.gz PackageFileSize: 1.222 MiB