Package: genomicInstability Version: 1.13.0 Command: rm -rf genomicInstability.buildbin-libdir && mkdir genomicInstability.buildbin-libdir && E:\biocbuild\bbs-3.21-bioc\R\bin\R.exe CMD INSTALL --build --library=genomicInstability.buildbin-libdir genomicInstability_1.13.0.tar.gz StartedAt: 2025-02-10 07:49:16 -0500 (Mon, 10 Feb 2025) EndedAt: 2025-02-10 07:50:01 -0500 (Mon, 10 Feb 2025) EllapsedTime: 45.0 seconds RetCode: 0 Status: OK PackageFile: genomicInstability_1.13.0.zip PackageFileSize: 1.088 MiB