Package: genomicInstability Version: 1.13.0 Command: chmod a+r genomicInstability -R && E:\biocbuild\bbs-3.21-bioc\R\bin\R.exe CMD build --keep-empty-dirs --no-resave-data genomicInstability StartedAt: 2025-02-03 19:06:03 -0500 (Mon, 03 Feb 2025) EndedAt: 2025-02-03 19:09:01 -0500 (Mon, 03 Feb 2025) EllapsedTime: 178.1 seconds RetCode: 0 Status: OK PackageFile: genomicInstability_1.13.0.tar.gz PackageFileSize: 1.029 MiB