Package: genomicInstability Version: 1.13.0 Command: E:\biocbuild\bbs-3.21-bioc\R\bin\R.exe CMD INSTALL genomicInstability StartedAt: 2025-02-03 16:19:27 -0500 (Mon, 03 Feb 2025) EndedAt: 2025-02-03 16:19:56 -0500 (Mon, 03 Feb 2025) EllapsedTime: 28.8 seconds RetCode: 0 Status: OK