Package: geomeTriD Version: 1.1.8 Command: /home/biocbuild/R/R/bin/R CMD build --keep-empty-dirs --no-resave-data geomeTriD StartedAt: 2025-01-28 23:09:49 -0000 (Tue, 28 Jan 2025) EndedAt: 2025-01-28 23:11:56 -0000 (Tue, 28 Jan 2025) EllapsedTime: 127.0 seconds RetCode: 0 Status: OK PackageFile: geomeTriD_1.1.8.tar.gz PackageFileSize: 1016 KiB