Package: geomeTriD Version: 1.1.8 Command: rm -rf geomeTriD.buildbin-libdir && mkdir geomeTriD.buildbin-libdir && /Users/biocbuild/BBS/utils/build-universal.sh geomeTriD_1.1.8.tar.gz /Library/Frameworks/R.framework/Resources/bin/R geomeTriD.buildbin-libdir StartedAt: 2025-02-05 00:41:50 -0500 (Wed, 05 Feb 2025) EndedAt: 2025-02-05 00:43:06 -0500 (Wed, 05 Feb 2025) EllapsedTime: 76.2 seconds RetCode: 0 Status: OK PackageFile: geomeTriD_1.1.8.tgz PackageFileSize: 1.538 MiB