Package: geomeTriD Version: 1.1.8 Command: /Library/Frameworks/R.framework/Resources/bin/R CMD build --keep-empty-dirs --no-resave-data geomeTriD StartedAt: 2025-02-04 16:50:15 -0500 (Tue, 04 Feb 2025) EndedAt: 2025-02-04 16:51:55 -0500 (Tue, 04 Feb 2025) EllapsedTime: 99.9 seconds RetCode: 0 Status: OK PackageFile: geomeTriD_1.1.8.tar.gz PackageFileSize: 1.081 MiB