Package: geomeTriD Version: 1.1.8 Command: /Library/Frameworks/R.framework/Resources/bin/R CMD check --install=check:geomeTriD.install-out.txt --library=/Library/Frameworks/R.framework/Resources/library --no-vignettes --timings geomeTriD_1.1.8.tar.gz StartedAt: 2025-02-09 20:58:07 -0500 (Sun, 09 Feb 2025) EndedAt: 2025-02-09 21:05:25 -0500 (Sun, 09 Feb 2025) EllapsedTime: 438.3 seconds RetCode: 0 Status: OK CheckDir: geomeTriD.Rcheck Warnings: 0