Package: geomeTriD Version: 1.1.8 Command: /Library/Frameworks/R.framework/Resources/bin/R CMD INSTALL geomeTriD StartedAt: 2025-02-09 15:30:51 -0500 (Sun, 09 Feb 2025) EndedAt: 2025-02-09 15:32:05 -0500 (Sun, 09 Feb 2025) EllapsedTime: 74.1 seconds RetCode: 0 Status: OK