Package: geomeTriD Version: 1.1.8 Command: /home/biocbuild/bbs-3.21-bioc/R/bin/R CMD INSTALL geomeTriD StartedAt: 2025-02-09 15:47:34 -0500 (Sun, 09 Feb 2025) EndedAt: 2025-02-09 15:48:30 -0500 (Sun, 09 Feb 2025) EllapsedTime: 55.4 seconds RetCode: 0 Status: OK