Package: geomeTriD Version: 1.1.8 Command: E:\biocbuild\bbs-3.21-bioc\R\bin\R.exe CMD check --no-multiarch --install=check:geomeTriD.install-out.txt --library=E:\biocbuild\bbs-3.21-bioc\R\library --no-vignettes --timings geomeTriD_1.1.8.tar.gz StartedAt: 2025-02-05 01:57:50 -0500 (Wed, 05 Feb 2025) EndedAt: 2025-02-05 02:05:54 -0500 (Wed, 05 Feb 2025) EllapsedTime: 484.5 seconds RetCode: 0 Status: OK CheckDir: geomeTriD.Rcheck Warnings: 0