Package: gep2pep Version: 1.27.0 Command: rm -rf gep2pep.buildbin-libdir && mkdir gep2pep.buildbin-libdir && /Users/biocbuild/BBS/utils/build-universal.sh gep2pep_1.27.0.tar.gz /Library/Frameworks/R.framework/Resources/bin/R gep2pep.buildbin-libdir StartedAt: 2025-02-04 22:17:50 -0500 (Tue, 04 Feb 2025) EndedAt: 2025-02-04 22:17:57 -0500 (Tue, 04 Feb 2025) EllapsedTime: 7.1 seconds RetCode: 0 Status: OK PackageFile: gep2pep_1.27.0.tgz PackageFileSize: 470.7 KiB