Package: gep2pep Version: 1.27.0 Command: /home/biocbuild/R/R/bin/R CMD build --keep-empty-dirs --no-resave-data gep2pep StartedAt: 2025-01-28 23:11:14 -0000 (Tue, 28 Jan 2025) EndedAt: 2025-01-28 23:11:47 -0000 (Tue, 28 Jan 2025) EllapsedTime: 33.0 seconds RetCode: 0 Status: OK PackageFile: gep2pep_1.27.0.tar.gz PackageFileSize: 122.4 KiB