Package: gep2pep Version: 1.27.0 Command: /home/biocbuild/R/R/bin/R CMD check --install=check:gep2pep.install-out.txt --library=/home/biocbuild/R/R/site-library --no-vignettes --timings gep2pep_1.27.0.tar.gz StartedAt: 2025-01-28 11:02:53 -0000 (Tue, 28 Jan 2025) EndedAt: 2025-01-28 11:06:05 -0000 (Tue, 28 Jan 2025) EllapsedTime: 192.1 seconds RetCode: 0 Status: OK CheckDir: gep2pep.Rcheck Warnings: 0