Package: gep2pep Version: 1.27.0 Command: /home/biocbuild/R/R/bin/R CMD INSTALL gep2pep StartedAt: 2025-01-29 20:13:25 -0000 (Wed, 29 Jan 2025) EndedAt: 2025-01-29 20:13:48 -0000 (Wed, 29 Jan 2025) EllapsedTime: 23.2 seconds RetCode: 0 Status: OK