Package: gep2pep Version: 1.27.0 Command: rm -rf gep2pep.buildbin-libdir && mkdir gep2pep.buildbin-libdir && /Users/biocbuild/BBS/utils/build-universal.sh gep2pep_1.27.0.tar.gz /Library/Frameworks/R.framework/Resources/bin/R gep2pep.buildbin-libdir StartedAt: 2025-02-05 00:41:55 -0500 (Wed, 05 Feb 2025) EndedAt: 2025-02-05 00:42:20 -0500 (Wed, 05 Feb 2025) EllapsedTime: 24.2 seconds RetCode: 0 Status: OK PackageFile: gep2pep_1.27.0.tgz PackageFileSize: 467.8 KiB