Package: gep2pep Version: 1.27.0 Command: /Library/Frameworks/R.framework/Resources/bin/R CMD build --keep-empty-dirs --no-resave-data gep2pep StartedAt: 2025-02-04 16:50:29 -0500 (Tue, 04 Feb 2025) EndedAt: 2025-02-04 16:50:57 -0500 (Tue, 04 Feb 2025) EllapsedTime: 28.6 seconds RetCode: 0 Status: OK PackageFile: gep2pep_1.27.0.tar.gz PackageFileSize: 121.8 KiB