Package: gep2pep Version: 1.27.0 Command: /Library/Frameworks/R.framework/Resources/bin/R CMD check --install=check:gep2pep.install-out.txt --library=/Library/Frameworks/R.framework/Resources/library --no-vignettes --timings gep2pep_1.27.0.tar.gz StartedAt: 2025-02-04 20:45:50 -0500 (Tue, 04 Feb 2025) EndedAt: 2025-02-04 20:48:28 -0500 (Tue, 04 Feb 2025) EllapsedTime: 158.3 seconds RetCode: 0 Status: OK CheckDir: gep2pep.Rcheck Warnings: 0